BEGIN:VCALENDAR
VERSION:2.0
PRODID:-//Bienenzuchtverein Wien-West - ECPv6.15.20//NONSGML v1.0//EN
CALSCALE:GREGORIAN
METHOD:PUBLISH
X-ORIGINAL-URL:https://bienewienwest.at
X-WR-CALDESC:Veranstaltungen für Bienenzuchtverein Wien-West
REFRESH-INTERVAL;VALUE=DURATION:PT1H
X-Robots-Tag:noindex
X-PUBLISHED-TTL:PT1H
BEGIN:VTIMEZONE
TZID:Europe/Vienna
BEGIN:DAYLIGHT
TZOFFSETFROM:+0100
TZOFFSETTO:+0200
TZNAME:CEST
DTSTART:20250330T010000
END:DAYLIGHT
BEGIN:STANDARD
TZOFFSETFROM:+0200
TZOFFSETTO:+0100
TZNAME:CET
DTSTART:20251026T010000
END:STANDARD
BEGIN:DAYLIGHT
TZOFFSETFROM:+0100
TZOFFSETTO:+0200
TZNAME:CEST
DTSTART:20260329T010000
END:DAYLIGHT
BEGIN:STANDARD
TZOFFSETFROM:+0200
TZOFFSETTO:+0100
TZNAME:CET
DTSTART:20261025T010000
END:STANDARD
BEGIN:DAYLIGHT
TZOFFSETFROM:+0100
TZOFFSETTO:+0200
TZNAME:CEST
DTSTART:20270328T010000
END:DAYLIGHT
BEGIN:STANDARD
TZOFFSETFROM:+0200
TZOFFSETTO:+0100
TZNAME:CET
DTSTART:20271031T010000
END:STANDARD
END:VTIMEZONE
BEGIN:VEVENT
DTSTART;TZID=Europe/Vienna:20260415T190000
DTEND;TZID=Europe/Vienna:20260415T210000
DTSTAMP:20260421T125842
CREATED:20260401T153540Z
LAST-MODIFIED:20260401T153914Z
UID:699-1776279600-1776286800@bienewienwest.at
SUMMARY:Vereinsabend: Ablegerbildung
DESCRIPTION:
URL:https://bienewienwest.at/event/vereinsabend-ablegerbildung/
LOCATION:Vereinslokal (Pfarre Hütteldorf)\, Hüttelbergstraße 1A\, Wien\, 1140\, Austria
CATEGORIES:Vereinstreffen
END:VEVENT
END:VCALENDAR