BEGIN:VCALENDAR
VERSION:2.0
PRODID:-//Bienenzuchtverein Wien-West - ECPv6.15.20//NONSGML v1.0//EN
CALSCALE:GREGORIAN
METHOD:PUBLISH
X-WR-CALNAME:Bienenzuchtverein Wien-West
X-ORIGINAL-URL:https://bienewienwest.at
X-WR-CALDESC:Veranstaltungen für Bienenzuchtverein Wien-West
REFRESH-INTERVAL;VALUE=DURATION:PT1H
X-Robots-Tag:noindex
X-PUBLISHED-TTL:PT1H
BEGIN:VTIMEZONE
TZID:Europe/Vienna
BEGIN:DAYLIGHT
TZOFFSETFROM:+0100
TZOFFSETTO:+0200
TZNAME:CEST
DTSTART:20250330T010000
END:DAYLIGHT
BEGIN:STANDARD
TZOFFSETFROM:+0200
TZOFFSETTO:+0100
TZNAME:CET
DTSTART:20251026T010000
END:STANDARD
BEGIN:DAYLIGHT
TZOFFSETFROM:+0100
TZOFFSETTO:+0200
TZNAME:CEST
DTSTART:20260329T010000
END:DAYLIGHT
BEGIN:STANDARD
TZOFFSETFROM:+0200
TZOFFSETTO:+0100
TZNAME:CET
DTSTART:20261025T010000
END:STANDARD
BEGIN:DAYLIGHT
TZOFFSETFROM:+0100
TZOFFSETTO:+0200
TZNAME:CEST
DTSTART:20270328T010000
END:DAYLIGHT
BEGIN:STANDARD
TZOFFSETFROM:+0200
TZOFFSETTO:+0100
TZNAME:CET
DTSTART:20271031T010000
END:STANDARD
END:VTIMEZONE
BEGIN:VEVENT
DTSTART;TZID=Europe/Vienna:20260404T100000
DTEND;TZID=Europe/Vienna:20260404T120000
DTSTAMP:20260421T142916
CREATED:20260406T154039Z
LAST-MODIFIED:20260406T154039Z
UID:705-1775296800-1775304000@bienewienwest.at
SUMMARY:Praxis am Vereinsbienenstand
DESCRIPTION:Samstags zwischen 10 und 12 Uhr bieten wir ‚betreutes Imkern‘ an unserem Vereinsbienenstand (VBS) an. Zu dieser Zeit steht euch ein ehrfahrener Ansprechpartner zur Verfügung\, um alle Fragen rund um eure Vólker zu klären oder einfach nur zu plaudern. Auch unser Vereinshonig kann in diesem Zeitraum gekauft werden! \nBitte beachtet\, dass der Termin nur bei (halbwegs) schönem Wetter stattfindet\, da sonst auch kein Arbeiten am Bienenstock möglich ist.
URL:https://bienewienwest.at/event/praxis-am-vereinsbienenstand/
LOCATION:Vereinsbienenstand\, Amundsenstraße 1\, Wien\, 1140\, Austria
CATEGORIES:Praxisveranstaltung
END:VEVENT
END:VCALENDAR